BEGIN:VCALENDAR
VERSION:2.0
PRODID:-//Ogden Museum of Southern Art - ECPv6.15.20//NONSGML v1.0//EN
CALSCALE:GREGORIAN
METHOD:PUBLISH
X-ORIGINAL-URL:https://ogdenmuseum.org
X-WR-CALDESC:Events for Ogden Museum of Southern Art
REFRESH-INTERVAL;VALUE=DURATION:PT1H
X-Robots-Tag:noindex
X-PUBLISHED-TTL:PT1H
BEGIN:VTIMEZONE
TZID:America/Chicago
BEGIN:DAYLIGHT
TZOFFSETFROM:-0600
TZOFFSETTO:-0500
TZNAME:CDT
DTSTART:20230312T080000
END:DAYLIGHT
BEGIN:STANDARD
TZOFFSETFROM:-0500
TZOFFSETTO:-0600
TZNAME:CST
DTSTART:20231105T070000
END:STANDARD
BEGIN:DAYLIGHT
TZOFFSETFROM:-0600
TZOFFSETTO:-0500
TZNAME:CDT
DTSTART:20240310T080000
END:DAYLIGHT
BEGIN:STANDARD
TZOFFSETFROM:-0500
TZOFFSETTO:-0600
TZNAME:CST
DTSTART:20241103T070000
END:STANDARD
BEGIN:DAYLIGHT
TZOFFSETFROM:-0600
TZOFFSETTO:-0500
TZNAME:CDT
DTSTART:20250309T080000
END:DAYLIGHT
BEGIN:STANDARD
TZOFFSETFROM:-0500
TZOFFSETTO:-0600
TZNAME:CST
DTSTART:20251102T070000
END:STANDARD
END:VTIMEZONE
BEGIN:VEVENT
DTSTART;TZID=America/Chicago:20240222T133000
DTEND;TZID=America/Chicago:20240222T163000
DTSTAMP:20260422T014345
CREATED:20240130T162740Z
LAST-MODIFIED:20240130T162740Z
UID:10005557-1708608600-1708619400@ogdenmuseum.org
SUMMARY:Adult Art Studio
DESCRIPTION:Thursdays\nFebruary 22\, 29 & March 7\, 14\, 21 and 28 (6 weeks)\n1:30 – 4:30 p.m. \nAre you interested in exploring your creative side\, pushing your studio practice as an artist\, learning new skills and building a supportive artistic community? \nSo often we lack the time and space to enter into a flow state with our work\, Adult Art StudiO is designed to create this space for you. The six-week studio will culminate in an open exhibition of completed works in the Circle gallery at Ogden Museum. \nThis Adult Art StudiO course will highlight watercolor and paper-making techniques that can be used throughout your projects. Prepare to receive guidance\, training and space to riff on your own. Inspiration will draw from sculpture\, painting and photography. \n$200 members / $250 non-members \nregister\nNot a museum member? Save money on this studio and others like it\, plus receive exclusive privileges like unlimited free admission\, private exhibition previews and so much more when you join Ogden Museum today! Membership begins at the low price of $60. \nJoin the O today
URL:https://ogdenmuseum.org/event/adult-art-studio-3/
CATEGORIES:Adult Art Class,Education Events for Adults,Events for Adults
ATTACH;FMTTYPE=image/png:https://ogdenmuseum.org/wp-content/uploads/2024/01/Web-Event-Size-10.png
END:VEVENT
END:VCALENDAR