BEGIN:VCALENDAR
VERSION:2.0
PRODID:-//Ogden Museum of Southern Art - ECPv6.15.20//NONSGML v1.0//EN
CALSCALE:GREGORIAN
METHOD:PUBLISH
X-WR-CALNAME:Ogden Museum of Southern Art
X-ORIGINAL-URL:https://ogdenmuseum.org
X-WR-CALDESC:Events for Ogden Museum of Southern Art
REFRESH-INTERVAL;VALUE=DURATION:PT1H
X-Robots-Tag:noindex
X-PUBLISHED-TTL:PT1H
BEGIN:VTIMEZONE
TZID:America/Chicago
BEGIN:DAYLIGHT
TZOFFSETFROM:-0600
TZOFFSETTO:-0500
TZNAME:CDT
DTSTART:20210314T080000
END:DAYLIGHT
BEGIN:STANDARD
TZOFFSETFROM:-0500
TZOFFSETTO:-0600
TZNAME:CST
DTSTART:20211107T070000
END:STANDARD
BEGIN:DAYLIGHT
TZOFFSETFROM:-0600
TZOFFSETTO:-0500
TZNAME:CDT
DTSTART:20220313T080000
END:DAYLIGHT
BEGIN:STANDARD
TZOFFSETFROM:-0500
TZOFFSETTO:-0600
TZNAME:CST
DTSTART:20221106T070000
END:STANDARD
BEGIN:DAYLIGHT
TZOFFSETFROM:-0600
TZOFFSETTO:-0500
TZNAME:CDT
DTSTART:20230312T080000
END:DAYLIGHT
BEGIN:STANDARD
TZOFFSETFROM:-0500
TZOFFSETTO:-0600
TZNAME:CST
DTSTART:20231105T070000
END:STANDARD
END:VTIMEZONE
BEGIN:VEVENT
DTSTART;TZID=America/Chicago:20220907T130000
DTEND;TZID=America/Chicago:20220907T160000
DTSTAMP:20260424T193441
CREATED:20220808T160133Z
LAST-MODIFIED:20220906T200256Z
UID:10005120-1662555600-1662566400@ogdenmuseum.org
SUMMARY:Adult Art Class: Session III
DESCRIPTION:Adult Art Class: Session III: Developing Breath in Drawing\nWednesdays\, 1-4 p.m.\nSeptember 7\, 14\, 21\, 28 & October 5 \nJoin Museum Educator Mikhayla Harrell for a playful\, five-week Adult Art Class inspired by works from Ogden Museum’s permanent collection\, graphite artist Gregory B. Saunders and the Louisiana Contemporary\, presented by The Helis Foundation Exhibition. Learn mindfulness techniques to assist with stress reduction and creative flow. Sharpen your pencils and prepare to work with a variety of traditional and non traditional drawing techniques. \nAll supplies provided\, just bring your curiosity and a thirst for enhancing your drawing skills! Questions? Email education@ogdenmuseum.org. \n$220 members / $240 non-members \nCan’t attend Session III? Session IV of Adult Art Class starts November 2! \nLearn more about Session IV
URL:https://ogdenmuseum.org/event/adult-art-class-session-iii/
CATEGORIES:Adult Art Class,Events for Adults
ATTACH;FMTTYPE=image/png:https://ogdenmuseum.org/wp-content/uploads/2022/08/Web-Event-Size-25.png
END:VEVENT
BEGIN:VEVENT
DTSTART;TZID=America/Chicago:20220908T130000
DTEND;TZID=America/Chicago:20220908T160000
DTSTAMP:20260424T193441
CREATED:20220808T154404Z
LAST-MODIFIED:20220829T152009Z
UID:10005114-1662642000-1662652800@ogdenmuseum.org
SUMMARY:Adult Photography Studio:
DESCRIPTION:Adult Photography Studio: Session 1\nThursdays\, 1-4 p.m.\nSeptember 8\, 15\, 22\, 29 & October 6 \nDiscover a new way of seeing and explore digital photography this fall at Ogden Museum. Join teaching artist\, Leah Floyd\, for a fun five-week Adult Photography Class that not only teaches the basic elements of photography (such as composition\, exposure and the functions of the camera)\, but also challenges you to create meaningful and thought-provoking work. The course will cover topics such as the still life\, portraiture\, collage and creating a series based on a chosen theme. You will learn about past and contemporary photographers and receive feedback on your images during class discussions and individual pointers from the instructor. Join us as we use photography as a tool to better observe and understand our world! \nCameras not provided\, photographers may use any type of digital camera (including phone cameras). Masks are optional. Questions? Email education@ogdenmuseum.org. \n$220 members / $240 non-members \nRegister\nCan’t attend Session I? Session II of Adult Photography Studio starts November 3! \nLearn more about Session II\nAbout Leah Floyd\nLeah Floyd hails from Florida but has called New Orleans her home since moving to Louisiana after she received her MFA in Creative Photography from the University of Florida.  Floyd is a multidisciplinary artist utilizing photography and textiles to explore our relationship to the land in the South. She enjoys spending her time teaching photography at Loyola University\, working in the studio\, and riding her motorcycle around the swamp.
URL:https://ogdenmuseum.org/event/adult-photography-studio/
CATEGORIES:Adult Art Class,Events for Adults
ATTACH;FMTTYPE=image/png:https://ogdenmuseum.org/wp-content/uploads/2022/08/Web-Event-Size-23.png
END:VEVENT
END:VCALENDAR