BEGIN:VCALENDAR
VERSION:2.0
PRODID:-//Ogden Museum of Southern Art - ECPv6.15.20//NONSGML v1.0//EN
CALSCALE:GREGORIAN
METHOD:PUBLISH
X-WR-CALNAME:Ogden Museum of Southern Art
X-ORIGINAL-URL:https://ogdenmuseum.org
X-WR-CALDESC:Events for Ogden Museum of Southern Art
REFRESH-INTERVAL;VALUE=DURATION:PT1H
X-Robots-Tag:noindex
X-PUBLISHED-TTL:PT1H
BEGIN:VTIMEZONE
TZID:America/Chicago
BEGIN:DAYLIGHT
TZOFFSETFROM:-0600
TZOFFSETTO:-0500
TZNAME:CDT
DTSTART:20210314T080000
END:DAYLIGHT
BEGIN:STANDARD
TZOFFSETFROM:-0500
TZOFFSETTO:-0600
TZNAME:CST
DTSTART:20211107T070000
END:STANDARD
BEGIN:DAYLIGHT
TZOFFSETFROM:-0600
TZOFFSETTO:-0500
TZNAME:CDT
DTSTART:20220313T080000
END:DAYLIGHT
BEGIN:STANDARD
TZOFFSETFROM:-0500
TZOFFSETTO:-0600
TZNAME:CST
DTSTART:20221106T070000
END:STANDARD
BEGIN:DAYLIGHT
TZOFFSETFROM:-0600
TZOFFSETTO:-0500
TZNAME:CDT
DTSTART:20230312T080000
END:DAYLIGHT
BEGIN:STANDARD
TZOFFSETFROM:-0500
TZOFFSETTO:-0600
TZNAME:CST
DTSTART:20231105T070000
END:STANDARD
END:VTIMEZONE
BEGIN:VEVENT
DTSTART;TZID=America/Chicago:20220126T130000
DTEND;TZID=America/Chicago:20220126T160000
DTSTAMP:20260425T065032
CREATED:20220110T150618Z
LAST-MODIFIED:20220125T225452Z
UID:10005058-1643202000-1643212800@ogdenmuseum.org
SUMMARY:Adult Art Class
DESCRIPTION:Wednesdays from 1 – 4 p.m.\nJanuary 26\, February 2\, 9\, 16. \nObserve\, discuss and create abstract paintings this winter at the Ogden Museum! Join Museum Educator Mikhayla Harrell for a playful\, four-week Adult Art Class inspired by works from Ogden Museum’s permanent collection and more. Learn mindfulness techniques to assist with stress reduction and creative flow. Develop an awareness of the history and practices of abstract painting employing mediums such as watercolor\, gouache and acrylic. All supplies provided\, just bring your curiosity and a thirst for enhancing your artistic skills! \nAll materials included. Masks required. Questions? Email education@ogdenmuseum.org. \n$150 members / $165 non-members \nIMPORTANT EVENT GUIDELINES\nAnyone 5 years of age and older must provide proof of at least two doses of an approved COVID vaccine or a negative PCR test within 72 hours to access. We will accept original vaccine cards\, the LA Wallet app or high-resolution photos of both sides of your vaccine card as proof of vaccination. Physical copies or a photo of a negative PCR test will also be accepted. Masks are required.
URL:https://ogdenmuseum.org/event/adult-art-class-2/
CATEGORIES:Adult Art Class,Events for Adults
ATTACH;FMTTYPE=image/png:https://ogdenmuseum.org/wp-content/uploads/2022/01/Web-Event-Size-2.png
END:VEVENT
END:VCALENDAR