BEGIN:VCALENDAR
VERSION:2.0
PRODID:-//Ogden Museum of Southern Art - ECPv6.15.20//NONSGML v1.0//EN
CALSCALE:GREGORIAN
METHOD:PUBLISH
X-WR-CALNAME:Ogden Museum of Southern Art
X-ORIGINAL-URL:https://ogdenmuseum.org
X-WR-CALDESC:Events for Ogden Museum of Southern Art
REFRESH-INTERVAL;VALUE=DURATION:PT1H
X-Robots-Tag:noindex
X-PUBLISHED-TTL:PT1H
BEGIN:VTIMEZONE
TZID:America/Chicago
BEGIN:DAYLIGHT
TZOFFSETFROM:-0600
TZOFFSETTO:-0500
TZNAME:CDT
DTSTART:20230312T080000
END:DAYLIGHT
BEGIN:STANDARD
TZOFFSETFROM:-0500
TZOFFSETTO:-0600
TZNAME:CST
DTSTART:20231105T070000
END:STANDARD
BEGIN:DAYLIGHT
TZOFFSETFROM:-0600
TZOFFSETTO:-0500
TZNAME:CDT
DTSTART:20240310T080000
END:DAYLIGHT
BEGIN:STANDARD
TZOFFSETFROM:-0500
TZOFFSETTO:-0600
TZNAME:CST
DTSTART:20241103T070000
END:STANDARD
BEGIN:DAYLIGHT
TZOFFSETFROM:-0600
TZOFFSETTO:-0500
TZNAME:CDT
DTSTART:20250309T080000
END:DAYLIGHT
BEGIN:STANDARD
TZOFFSETFROM:-0500
TZOFFSETTO:-0600
TZNAME:CST
DTSTART:20251102T070000
END:STANDARD
END:VTIMEZONE
BEGIN:VEVENT
DTSTART;VALUE=DATE:20240507
DTEND;VALUE=DATE:20240508
DTSTAMP:20260423T123903
CREATED:20240408T135347Z
LAST-MODIFIED:20240422T204122Z
UID:10005599-1715040000-1715126399@ogdenmuseum.org
SUMMARY:GIVENOLA DAY 2024
DESCRIPTION:GiveNOLA Day returns on May 7\, 2024! \nHosted by the Greater New Orleans Foundation\, GiveNOLA Day is a 24-hour giving event that benefits regional nonprofits\, like Ogden Museum of Southern Art. \nTo celebrate GiveNOLA Day\, enjoy free admission all day! While visiting\, consider making a donation to Ogden Museum’s GiveNOLA Day fundraiser. \nLearn more and give today\n\nJoin or renew at the Individual\, Dual or Family membership level with a pre-scheduled gift starting Tuesday\, April 23 through Tuesday\, May 7\, at a special discounted price! Ogden members enjoy benefits all year long such as unlimited free admission to the Museum and discounted admission for guests\, free or discounted admission to special programming and events\, 10% discount on Museum Store purchases and more! \n\nIndividual Membership $60  $48\nDual Membership $100  $80\nFamily Membership $125  $100\nKohlmeyer Circle Membership $175 $140 (Individual) $350 $280 (Couple)\n\n\n\nDISCOUNTED MEMBERSHIP IS AVAILABLE THROUGH GIVENOLA DAY’S WEBSITE ONLY.\n\nlearn more about ogden museum membership join today through givenola
URL:https://ogdenmuseum.org/event/givenola-day-2024/
CATEGORIES:Admission Specials,Special Event
ATTACH;FMTTYPE=image/png:https://ogdenmuseum.org/wp-content/uploads/2024/04/Web-Event-Size-1.png
END:VEVENT
END:VCALENDAR